BEGIN:VCALENDAR
VERSION:2.0
PRODID:-//wp-events-plugin.com//5.99912//EN
TZID:America/Los_Angeles
X-WR-TIMEZONE:America/Los_Angeles
BEGIN:VEVENT
UID:524@industrial-software.com
DTSTART;TZID=America/Los_Angeles:20261015T083000
DTEND;TZID=America/Los_Angeles:20261016T163000
DTSTAMP:20250930T205116Z
URL:https://industrial-software.com/community/events/aveva-historian-clien
 t-training-101526/
SUMMARY:AVEVA Historian Client Training
DESCRIPTION:The AVEVA™ Historian Client 2020 course is a 2-day\, instruct
 or-led class designed to provide a fundamental understanding of the featur
 es and functionality of the AVEVA™ Historian Client software. The course
  provides lectures and hands-on labs to supply and reinforce the knowledge
  necessary to use AVEVA™ Historian Client.\n\nThe AVEVA™ Historian Cli
 ent trending\, analysis\, and reporting software offers a suite of data an
 alysis and reporting clients that maximize the value of data stored in AVE
 VA™ Historian Server. AVEVA™ Historian Client enables individuals at a
 ll levels of an organization to easily access plant and process related da
 ta through simple point-and-click dialog boxes.
CATEGORIES:Training
END:VEVENT
BEGIN:VTIMEZONE
TZID:America/Los_Angeles
X-LIC-LOCATION:America/Los_Angeles
BEGIN:DAYLIGHT
DTSTART:20260308T030000
TZOFFSETFROM:-0800
TZOFFSETTO:-0700
TZNAME:PDT
END:DAYLIGHT
END:VTIMEZONE
END:VCALENDAR