BEGIN:VCALENDAR
VERSION:2.0
PRODID:-//wp-events-plugin.com//5.99912//EN
TZID:America/Los_Angeles
X-WR-TIMEZONE:America/Los_Angeles
BEGIN:VEVENT
UID:525@industrial-software.com
DTSTART;TZID=America/Los_Angeles:20261027T083000
DTEND;TZID=America/Los_Angeles:20261030T163000
DTSTAMP:20250930T205158Z
URL:https://industrial-software.com/community/events/aveva-application-ser
 ver-training-102726/
SUMMARY:AVEVA Application Server Training
DESCRIPTION:The Application Server training class is a 4-day\, instructor-l
 ed class designed to provide a fundamental understanding of the features a
 nd functionality of AVEVA Application Server. This course provides lecture
 s and hands-on labs to supply and reinforce the knowledge necessary to use
  the ArchestrA tools and services in the System Platform for plant modelin
 g.
CATEGORIES:Training
END:VEVENT
BEGIN:VTIMEZONE
TZID:America/Los_Angeles
X-LIC-LOCATION:America/Los_Angeles
BEGIN:DAYLIGHT
DTSTART:20260308T030000
TZOFFSETFROM:-0800
TZOFFSETTO:-0700
TZNAME:PDT
END:DAYLIGHT
END:VTIMEZONE
END:VCALENDAR